BEGIN:VCALENDAR
VERSION:2.0
PRODID:-//chikkutakku.com//RDFCal 1.0//EN
X-WR-CALDESC:GoogleカレンダーやiCalendar形式情報を共有シェ
 アしましょう。近所のイベントから全国のイベントま
 で今日のイベント検索やスケジュールを決めるならち
 っくたっく
X-WR-CALNAME:ちっくたっく
X-WR-TIMEZONE:UTC
BEGIN:VEVENT
SUMMARY:WOWOWライブ「井上芳雄ミュージカルアワー『芳雄
 のミュー』＃15」[再]（京本大我）
DTSTART;VALUE=DATE-TIME:20260426T083000Z
DTEND;VALUE=DATE-TIME:20260426T090000Z
UID:143278108271
DESCRIPTION:https://www.wowow.co.jp/detail/188690/015/04
LOCATION:テレビ
END:VEVENT
END:VCALENDAR
