BEGIN:VCALENDAR
VERSION:2.0
PRODID:-//chikkutakku.com//RDFCal 1.0//EN
X-WR-CALDESC:GoogleカレンダーやiCalendar形式情報を共有シェ
 アしましょう。近所のイベントから全国のイベントま
 で今日のイベント検索やスケジュールを決めるならち
 っくたっく
X-WR-CALNAME:ちっくたっく
X-WR-TIMEZONE:UTC
BEGIN:VEVENT
SUMMARY:筋肉少女帯 想〜『月光蟲』再現ライブ
DTSTART;VALUE=DATE:20260521
DTEND;VALUE=DATE:20260522
UID:143425057092
DESCRIPTION:open 18:15 / start 19:00\n【料金】全席指定8\,800円\n\
 n【関連/参考ページ】\nhttp://nicesacademia.jp/ （なかのZERO
 ホール）\nhttps://www.king-show.net/ （筋肉少女帯大情報局！
 ）
LOCATION:なかのZEROホール【関東】
END:VEVENT
END:VCALENDAR
