BEGIN:VCALENDAR
VERSION:2.0
PRODID:-//chikkutakku.com//RDFCal 1.0//EN
X-WR-CALDESC:GoogleカレンダーやiCalendar形式情報を共有シェ
 アしましょう。近所のイベントから全国のイベントま
 で今日のイベント検索やスケジュールを決めるならち
 っくたっく
X-WR-CALNAME:ちっくたっく
X-WR-TIMEZONE:UTC
BEGIN:VEVENT
SUMMARY:黒妖の花嫁〜忌み嫌われた私が冷酷大尉に愛され
 るまで〜3
DTSTART;VALUE=DATE:20260517
DTEND;VALUE=DATE:20260518
UID:143773670715
DESCRIPTION:2026-05-18黒妖の花嫁〜忌み嫌われた私が冷酷大
 尉に愛されるまで〜3音中さわき/宮之みやこファンギル
 ド
LOCATION:
END:VEVENT
END:VCALENDAR
