BEGIN:VCALENDAR
VERSION:2.0
PRODID:-//chikkutakku.com//RDFCal 1.0//EN
X-WR-CALDESC:GoogleカレンダーやiCalendar形式情報を共有シェ
 アしましょう。近所のイベントから全国のイベントま
 で今日のイベント検索やスケジュールを決めるならち
 っくたっく
X-WR-CALNAME:ちっくたっく
X-WR-TIMEZONE:UTC
BEGIN:VEVENT
SUMMARY:麺屋夏樹
DTSTART;VALUE=DATE-TIME:20260424T130000Z
DTEND;VALUE=DATE-TIME:20260424T140000Z
UID:143826455124
DESCRIPTION:【イベント主催者】\n　なつきi\n【イベント内
 容】\n　コンカフェ風 ラーメン屋\n【イベントジャンル
 】\n　ロールプレイ\, 定期イベント\n【参加条件（モデ
 ル、人数制限など）】\n　できる限り軽量アバター 参
 加人数20名ほど\n【参加方法】\n　groupにて\n【備考】\n
 　接客イベントです
LOCATION:
END:VEVENT
END:VCALENDAR
