BEGIN:VCALENDAR
VERSION:2.0
PRODID:-//chikkutakku.com//RDFCal 1.0//EN
X-WR-CALDESC:GoogleカレンダーやiCalendar形式情報を共有シェ
 アしましょう。近所のイベントから全国のイベントま
 で今日のイベント検索やスケジュールを決めるならち
 っくたっく
X-WR-CALNAME:ちっくたっく
X-WR-TIMEZONE:UTC
BEGIN:VEVENT
SUMMARY:★日本の轍 4/21(火)21:54-22:00 関西テレビ(近畿広域
 圏 Ch.8)
DTSTART;VALUE=DATE-TIME:20260421T125400Z
DTEND;VALUE=DATE-TIME:20260421T130000Z
UID:144578324716
DESCRIPTION:★日本の轍\n4/21(火)21:54-22:00 関西テレビ(近畿
 広域圏 Ch.8)\n今回の轍は和歌山県湯浅町を通る「有田道
 」。この地は醤油醸造発祥の地として知られる。江戸
 時代には店に隣接して作られた港から全国に送られて
 いたという。そんな有田道を辿りながら歴史の轍を紐
 解いていく。\nhttps://www.ktv.jp/wadachi/
LOCATION:
END:VEVENT
END:VCALENDAR
