BEGIN:VCALENDAR
VERSION:2.0
PRODID:-//chikkutakku.com//RDFCal 1.0//EN
X-WR-CALDESC:GoogleカレンダーやiCalendar形式情報を共有シェ
 アしましょう。近所のイベントから全国のイベントま
 で今日のイベント検索やスケジュールを決めるならち
 っくたっく
X-WR-CALNAME:ちっくたっく
X-WR-TIMEZONE:UTC
BEGIN:VEVENT
SUMMARY:NOW HITS!
DTSTART;VALUE=DATE-TIME:20260422T220000Z
DTEND;VALUE=DATE-TIME:20260422T230000Z
UID:144597992180
DESCRIPTION:start 7:00 / end 8:00\n「風と私の物語」MVが流れま
 す。
LOCATION:SPACE SHOWER TV【日本】
END:VEVENT
END:VCALENDAR
