BEGIN:VCALENDAR
VERSION:2.0
PRODID:-//chikkutakku.com//RDFCal 1.0//EN
X-WR-CALDESC:GoogleカレンダーやiCalendar形式情報を共有シェ
 アしましょう。近所のイベントから全国のイベントま
 で今日のイベント検索やスケジュールを決めるならち
 っくたっく
X-WR-CALNAME:ちっくたっく
X-WR-TIMEZONE:UTC
BEGIN:VEVENT
SUMMARY:決闘喫茶Polaris二号店【TCGプレイヤー交流イベン
 ト】
DTSTART;VALUE=DATE-TIME:20260423T130000Z
DTEND;VALUE=DATE-TIME:20260423T145900Z
UID:145821742341
DESCRIPTION:【イベント主催者】\n　sukiyaki765\n【イベント
 内容】\n　ポケカをメインにリモートデュエルから雑談
 、環境考察、デッキ相談なんでもござれのTCG好きのた
 めのカフェイベントです。\n見学も大歓迎です。\n【イ
 ベントジャンル】\n　店舗系イベント\n【参加条件（モ
 デル、人数制限など）】\n　特に無し\n【参加方法】\n
 　Front_sanもしくはグループに参加してjoin(グループ+開
 催)\n【備考】\n　詳細はXへ https://x.com/vrccafe_polaris
LOCATION:
END:VEVENT
END:VCALENDAR
