BEGIN:VCALENDAR
VERSION:2.0
PRODID:-//chikkutakku.com//RDFCal 1.0//EN
X-WR-CALDESC:GoogleカレンダーやiCalendar形式情報を共有シェ
 アしましょう。近所のイベントから全国のイベントま
 で今日のイベント検索やスケジュールを決めるならち
 っくたっく
X-WR-CALNAME:ちっくたっく
X-WR-TIMEZONE:UTC
BEGIN:VEVENT
SUMMARY:Toongabbi PS Furniture Hire return
DTSTART;VALUE=DATE-TIME:20260505T030000Z
DTEND;VALUE=DATE-TIME:20260505T040000Z
UID:145850771564
DESCRIPTION:Toongabbie PS 140 School Anniversary \nThe details are:\nToong
 abbie Public School\nContact: Jenny Paton 0408 979 652\nFitzwilliam Rd\, T
 oongabbie 2146\n(02) 96313079\nCollection Date: 30.4.26 or 1.5.26\nReturn 
 date: 4.5.26\nWe would like to borrow/hire any items\, especially slate bo
 ards\, school case\, frames of kings/queens\, wall chart\, abacus\, cane\,
  blackboard\, blackboard compass. cuisenaire rods\,
LOCATION:
END:VEVENT
END:VCALENDAR
