BEGIN:VCALENDAR
VERSION:2.0
PRODID:-//chikkutakku.com//RDFCal 1.0//EN
X-WR-CALDESC:GoogleカレンダーやiCalendar形式情報を共有シェ
 アしましょう。近所のイベントから全国のイベントま
 で今日のイベント検索やスケジュールを決めるならち
 っくたっく
X-WR-CALNAME:ちっくたっく
X-WR-TIMEZONE:UTC
BEGIN:VEVENT
SUMMARY:介護技術Ⅰ
DTSTART;VALUE=DATE-TIME:20260421T012000Z
DTEND;VALUE=DATE-TIME:20260421T025000Z
UID:146658811702
DESCRIPTION:(佐藤千恵/小林) 介護実習室
LOCATION:
END:VEVENT
END:VCALENDAR
