BEGIN:VCALENDAR
VERSION:2.0
PRODID:-//chikkutakku.com//RDFCal 1.0//EN
X-WR-CALDESC:GoogleカレンダーやiCalendar形式情報を共有シェ
 アしましょう。近所のイベントから全国のイベントま
 で今日のイベント検索やスケジュールを決めるならち
 っくたっく
X-WR-CALNAME:ちっくたっく
X-WR-TIMEZONE:UTC
BEGIN:VEVENT
SUMMARY:仮面ライダーオーズ #27 1000と映画と戦闘員 / #28 10
 00と仮面ライダーと誕生日
DTSTART;VALUE=DATE-TIME:20260425T010000Z
DTEND;VALUE=DATE-TIME:20260425T012400Z
UID:146664226954
DESCRIPTION: / #27 1000と映画と戦闘員 / #28 1000と仮面ライダ
 ーと誕生日 / 
LOCATION:東映特撮 YouTube Official
END:VEVENT
END:VCALENDAR
