BEGIN:VCALENDAR
VERSION:2.0
PRODID:-//chikkutakku.com//RDFCal 1.0//EN
X-WR-CALDESC:GoogleカレンダーやiCalendar形式情報を共有シェ
 アしましょう。近所のイベントから全国のイベントま
 で今日のイベント検索やスケジュールを決めるならち
 っくたっく
X-WR-CALNAME:ちっくたっく
X-WR-TIMEZONE:UTC
BEGIN:VEVENT
SUMMARY:DJイベント「Club Kowloon」~Freeform Hardcore Only Vol.3~
DTSTART;VALUE=DATE-TIME:20260421T120000Z
DTEND;VALUE=DATE-TIME:20260421T144000Z
UID:146958111497
DESCRIPTION:【イベント主催者】\n　suzuno1234\n【イベント内
 容】\n　AmbientからExtratoneまで、何を流してもいいDJイベ
 ント「Club Kowloon」のFreeform Hardcore Only特別回になります!
 !\n【イベントジャンル】\n　音楽系イベント\n【参加条
 件（モデル、人数制限など）】\n　特になし\n【参加方
 法】\n　Club Kowloon用VRCグループ「https://vrc.group/CLUBKL.1433
 」のGroup＋\nもしくはDJ or 主催「suzuno1234」にJoin!\n【備
 考】\n　
LOCATION:
END:VEVENT
END:VCALENDAR
