BEGIN:VCALENDAR
VERSION:2.0
PRODID:-//chikkutakku.com//RDFCal 1.0//EN
X-WR-CALDESC:GoogleカレンダーやiCalendar形式情報を共有シェ
 アしましょう。近所のイベントから全国のイベントま
 で今日のイベント検索やスケジュールを決めるならち
 っくたっく
X-WR-CALNAME:ちっくたっく
X-WR-TIMEZONE:UTC
BEGIN:VEVENT
SUMMARY:【Android 対応】[BAR]CIGAR KISS(初見・初心者歓迎)
DTSTART;VALUE=DATE-TIME:20260425T123000Z
DTEND;VALUE=DATE-TIME:20260425T140000Z
UID:146964293845
DESCRIPTION:【イベント主催者】\n　こっこ0326\n【イベント
 内容】\n　人と人が繋がれるBARイベントです🥃\n1人で
 暇！友達が欲しい！始めたてで何も分からない！そん
 な方は是非足を運んでみてください！\n【イベントジャ
 ンル】\n　その他交流会\, VR飲み会\, 初心者向けイベン
 ト\, 定期イベント\n【参加条件（モデル、人数制限など
 ）】\n　アバター容量は50MB以下でお願いします\n【参加
 方法】\n　グループ[CIGAR KISS]に参加後、グループインス
 タンスにJOINしてください！\n【備考】\n　
LOCATION:
END:VEVENT
END:VCALENDAR
