BEGIN:VCALENDAR
VERSION:2.0
PRODID:-//chikkutakku.com//RDFCal 1.0//EN
X-WR-CALDESC:GoogleカレンダーやiCalendar形式情報を共有シェ
 アしましょう。近所のイベントから全国のイベントま
 で今日のイベント検索やスケジュールを決めるならち
 っくたっく
X-WR-CALNAME:ちっくたっく
X-WR-TIMEZONE:UTC
BEGIN:VEVENT
SUMMARY:I'mew 3ヶ月連続一般無銭ライブ「メラメラあいみ
 ゅうちゃん」
DTSTART;VALUE=DATE-TIME:20260421T103000Z
DTEND;VALUE=DATE-TIME:20260421T113000Z
UID:147063883689
DESCRIPTION:<a href="https://ticketdive.com/event/BnPvPb7MTLzaCzQPb8uM">ht
 tps://ticketdive.com/event/BnPvPb7MTLzaCzQPb8uM</a><br>3ヶ月連続一般
 無銭ライブ「メラメラあいみゅうちゃん」<br>公演日時<
 br>2026/4/21(火)<br>開場時刻 19:00 / 開演時刻 19:30<br>会場<br>
 AOHARIUM TOKYO<br>出演<br>I'mew（あいみゅう）
LOCATION:AOHARIUM TOKYO
END:VEVENT
END:VCALENDAR
