BEGIN:VCALENDAR
VERSION:2.0
PRODID:-//chikkutakku.com//RDFCal 1.0//EN
X-WR-CALDESC:GoogleカレンダーやiCalendar形式情報を共有シェ
 アしましょう。近所のイベントから全国のイベントま
 で今日のイベント検索やスケジュールを決めるならち
 っくたっく
X-WR-CALNAME:ちっくたっく
X-WR-TIMEZONE:UTC
BEGIN:VEVENT
SUMMARY:【群馬】矢木沢ダム　みなかみ３ダム春の点検大
 放流2026（要申込）
DTSTART;VALUE=DATE-TIME:20260517T023000Z
DTEND;VALUE=DATE-TIME:20260517T073000Z
UID:147147288199
DESCRIPTION:https://www.enjoy-minakami.jp/event.php?itemid=2513
LOCATION:
END:VEVENT
END:VCALENDAR
