BEGIN:VCALENDAR
VERSION:2.0
PRODID:-//chikkutakku.com//RDFCal 1.0//EN
X-WR-CALDESC:GoogleカレンダーやiCalendar形式情報を共有シェ
 アしましょう。近所のイベントから全国のイベントま
 で今日のイベント検索やスケジュールを決めるならち
 っくたっく
X-WR-CALNAME:ちっくたっく
X-WR-TIMEZONE:UTC
BEGIN:VEVENT
SUMMARY:身体計測
DTSTART;VALUE=DATE:20260420
DTEND;VALUE=DATE:20260421
UID:147240253122
DESCRIPTION:全園児
LOCATION:七尾みなとこども園
END:VEVENT
END:VCALENDAR
