BEGIN:VCALENDAR
VERSION:2.0
PRODID:-//chikkutakku.com//RDFCal 1.0//EN
X-WR-CALDESC:GoogleカレンダーやiCalendar形式情報を共有シェ
 アしましょう。近所のイベントから全国のイベントま
 で今日のイベント検索やスケジュールを決めるならち
 っくたっく
X-WR-CALNAME:ちっくたっく
X-WR-TIMEZONE:UTC
BEGIN:VEVENT
SUMMARY:Year 5&6 Rippa Rugby Tournament
DTSTART;VALUE=DATE:20260519
DTEND;VALUE=DATE:20260520
UID:147242338315
DESCRIPTION:Year 5&6 Rippa Rugby Tournament
LOCATION:TET Stadium & Events Centre\, 1 Elliot Street\, Inglewood 4330\, 
 New Zealand
END:VEVENT
END:VCALENDAR
