BEGIN:VCALENDAR
VERSION:2.0
PRODID:-//chikkutakku.com//RDFCal 1.0//EN
X-WR-CALDESC:GoogleカレンダーやiCalendar形式情報を共有シェ
 アしましょう。近所のイベントから全国のイベントま
 で今日のイベント検索やスケジュールを決めるならち
 っくたっく
X-WR-CALNAME:ちっくたっく
X-WR-TIMEZONE:UTC
BEGIN:VEVENT
SUMMARY:誘惑だらけの美少女ハーレムパーティーに1人、
 魔王が紛れ込んでいる!?【BOOK☆WALKER限定オリジナルSS付
 き】
DTSTART;VALUE=DATE:20260419
DTEND;VALUE=DATE:20260420
UID:148173297162
DESCRIPTION:2026-04-20誘惑だらけの美少女ハーレムパーティ
 ーに1人、魔王が紛れ込んでいる!?【BOOK☆WALKER限定オリ
 ジナルSS付き】高野ケイ/むつみまさとマイクロマガジ
 ン社
LOCATION:
END:VEVENT
END:VCALENDAR
