BEGIN:VCALENDAR
VERSION:2.0
PRODID:-//chikkutakku.com//RDFCal 1.0//EN
X-WR-CALDESC:GoogleカレンダーやiCalendar形式情報を共有シェ
 アしましょう。近所のイベントから全国のイベントま
 で今日のイベント検索やスケジュールを決めるならち
 っくたっく
X-WR-CALNAME:ちっくたっく
X-WR-TIMEZONE:UTC
BEGIN:VEVENT
SUMMARY:Timotheos of Gaza
DTSTART;VALUE=DATE-TIME:20260520T183000Z
DTEND;VALUE=DATE-TIME:20260521T183000Z
UID:148379553632
DESCRIPTION:A native of Gaza\, Timotheos was arrested and incarcerated in 
 this city during the second year of the Diocletianic persecution (= 305). 
 After undergoing multiple tortures\, but still refusing to offer sacrifice
 \, he was condemned to death by slow fire and executed in the same city. M
 artyr\n\nParis 146 and Vat. LXIX
LOCATION:
END:VEVENT
END:VCALENDAR
