BEGIN:VCALENDAR
VERSION:2.0
PRODID:-//chikkutakku.com//RDFCal 1.0//EN
X-WR-CALDESC:GoogleカレンダーやiCalendar形式情報を共有シェ
 アしましょう。近所のイベントから全国のイベントま
 で今日のイベント検索やスケジュールを決めるならち
 っくたっく
X-WR-CALNAME:ちっくたっく
X-WR-TIMEZONE:UTC
BEGIN:VEVENT
SUMMARY:นพ.สสจ.ประชุมคณะกรรมการ
 คัดเลือก คัดสรร ผู้รับพระร
 าชทานทุนและผู้ประสานงานร
 ะดับจังหวัดโครงการทุนการ
 ศึกษาพระราชทาน ม.ท.ศ. ครั้งท
 ี่2/2569
DTSTART;VALUE=DATE-TIME:20260421T063000Z
DTEND;VALUE=DATE-TIME:20260421T093000Z
UID:148491973933
DESCRIPTION:นพ.สสจ.ประชุมคณะกรรมกา
 รคัดเลือก คัดสรร ผู้รับพระ
 ราชทานทุนและผู้ประสานงาน
 ระดับจังหวัดโครงการทุนกา
 รศึกษาพระราชทาน ม.ท.ศ. ครั้ง
 ที่2/2569
LOCATION:สำนักงานศึกษาธิการจัง
 หวัดเพชรบูรณ์ ทางหลวงแผ่น
 ดินหมายเลข 21\, ต.สะเดียง อ.เม
 ืองเพชรบูรณ์\, จ.เพชรบูรณ์ 670
 00\, ประเทศไทย
END:VEVENT
END:VCALENDAR
