BEGIN:VCALENDAR
VERSION:2.0
PRODID:-//chikkutakku.com//RDFCal 1.0//EN
X-WR-CALDESC:GoogleカレンダーやiCalendar形式情報を共有シェ
 アしましょう。近所のイベントから全国のイベントま
 で今日のイベント検索やスケジュールを決めるならち
 っくたっく
X-WR-CALNAME:ちっくたっく
X-WR-TIMEZONE:UTC
BEGIN:VEVENT
SUMMARY:百万遍さんの手づくり市
DTSTART;VALUE=DATE-TIME:20260514T150000Z
DTEND;VALUE=DATE-TIME:20260514T150000Z
UID:149057784710
DESCRIPTION:京都大学キャンパスの向かい側にある、 百萬
 遍知恩寺で開催されている手作り市。\n毎月15日開催。\
 n約20年前から開催されている京都の「手作り市」先駆
 け的存在。\n作家作品を主体に、雑貨から服飾、食べ物
 などさまざまなジャンルの約450店が出店。\nhttp://www.tedu
 kuri-ichi.com/
LOCATION:〒606-8225 京都府京都市左京区田中門前町103 百萬
 遍知恩寺
END:VEVENT
END:VCALENDAR
