BEGIN:VCALENDAR
VERSION:2.0
PRODID:-//chikkutakku.com//RDFCal 1.0//EN
X-WR-CALDESC:GoogleカレンダーやiCalendar形式情報を共有シェ
 アしましょう。近所のイベントから全国のイベントま
 で今日のイベント検索やスケジュールを決めるならち
 っくたっく
X-WR-CALNAME:ちっくたっく
X-WR-TIMEZONE:UTC
BEGIN:VEVENT
SUMMARY:Board of Directors Meeting - Chicago ACS
DTSTART;VALUE=DATE-TIME:20260514T233000Z
DTEND;VALUE=DATE-TIME:20260515T004500Z
UID:149104446157
DESCRIPTION:Zoom meeting - contact the Section office for the link
LOCATION:
END:VEVENT
END:VCALENDAR
