BEGIN:VCALENDAR
VERSION:2.0
PRODID:-//chikkutakku.com//RDFCal 1.0//EN
X-WR-CALDESC:GoogleカレンダーやiCalendar形式情報を共有シェ
 アしましょう。近所のイベントから全国のイベントま
 で今日のイベント検索やスケジュールを決めるならち
 っくたっく
X-WR-CALNAME:ちっくたっく
X-WR-TIMEZONE:UTC
BEGIN:VEVENT
SUMMARY:TVステーション 10号（巻末Speicial2：ジェシー「パ
 ンチドランク・ウーマン Season2」）
DTSTART;VALUE=DATE:20260421
DTEND;VALUE=DATE:20260422
UID:149713685142
DESCRIPTION:https://tvstation.jp/y2610%ef%bd%b01/
LOCATION:雑誌
END:VEVENT
END:VCALENDAR
