BEGIN:VCALENDAR
VERSION:2.0
PRODID:-//chikkutakku.com//RDFCal 1.0//EN
X-WR-CALDESC:GoogleカレンダーやiCalendar形式情報を共有シェ
 アしましょう。近所のイベントから全国のイベントま
 で今日のイベント検索やスケジュールを決めるならち
 っくたっく
X-WR-CALNAME:ちっくたっく
X-WR-TIMEZONE:UTC
BEGIN:VEVENT
SUMMARY:VRCお笑い愛好会～ぶいちゃでボキャブラ天国をや
 りたい！～
DTSTART;VALUE=DATE-TIME:20260421T125400Z
DTEND;VALUE=DATE-TIME:20260421T140000Z
UID:150125352396
DESCRIPTION:【イベント主催者】\n　真樹希実 MakiNozomi\n【
 イベント内容】\n　VRChatでボキャブラ天国をやりたい！
 \nでもその前に、お笑い好きが集まる雑談イベントとし
 てやっています\n好きなお笑い芸人や好きなお笑い番組
 についてお喋りするイベントです\nワールドには動画プ
 レイヤーもあるのでそれを使うのもOK！\nお笑いにわか
 歓迎！\nボキャブラ天国のプレイリストもあります\n【
 イベントジャンル】\n　その他交流会\, 初心者向けイベ
 ント\, 定期イベント\n【参加条件（モデル、人数制限な
 ど）】\n　皆で楽しく出来たらと思っています。公序良
 俗に反するアバターのご参加はお控え\nください\nあら
 かじめ下記のグループ登録をよろしくお願いします！\n
 【参加方法】\n　時間になったら\n・主催の真樹希実 Mak
 iNozomi （あらかじめフレンドの遠隔申請しておくと\n便
 利です）\n・入場中のフレンドへJoin！\n下記のグループ
 ＋でやっています。\n【備考】\n　VRCお笑い愛好会 グル
 ープ：https://vrc.group/OWARAI.7600\n同X（旧Twitter）：https://x.c
 om/VRC_OWARAi
LOCATION:
END:VEVENT
END:VCALENDAR
