BEGIN:VCALENDAR
VERSION:2.0
PRODID:-//chikkutakku.com//RDFCal 1.0//EN
X-WR-CALDESC:GoogleカレンダーやiCalendar形式情報を共有シェ
 アしましょう。近所のイベントから全国のイベントま
 で今日のイベント検索やスケジュールを決めるならち
 っくたっく
X-WR-CALNAME:ちっくたっく
X-WR-TIMEZONE:UTC
BEGIN:VEVENT
SUMMARY:【Android 対応】【ざぁさん一日主催】VRCお姉さん
 ミルティナ集会
DTSTART;VALUE=DATE-TIME:20260425T130000Z
DTEND;VALUE=DATE-TIME:20260425T140000Z
UID:150653372955
DESCRIPTION:【イベント主催者】\n　代表：higashi_ 一日主催
 ：ざぁさん\n【イベント内容】\n　DOLOS art様から発売中
 のオリジナル3Dモデル『ミルティナ』をお姉さん風に改
 変したアバターの集会です。\n\nYoutuber『ざぁさん』の
 コラボ集会となります。\nコラボインスタンスと、通常
 の集会を楽しめるインスタンスをご用意いたします。\n
 詳細はグループ添付のXをご確認くださいませ。\n\n※途
 中入退室OK\n※集会ワールド内にサンプルペデスタルあ
 り\n【イベントジャンル】\n　改変アバター交流会\, 定
 期イベント\n【参加条件（モデル、人数制限など）】\n
 　アバターについて\n・原則として、「お姉さん改変を
 したミルティナ」のアバターをご使用ください\n　　- 
 ミルティナの一部を使用したキメラアバターも可とし
 ます\n・例外として、ミルティナのサンプルアバターも
 ご使用いただけます\n　　- 集会ワールド内にサンプル
 アバターのペデスタルをご用意しております\n・過度な
 エフェクトや音源、公序良俗に反する表現を含むアバ
 ターの使用はご遠慮ください\n・アバターのダウンロー
 ドサイズは50MB以下としてください\n・アバターの身長
 は3m以下としてください\n・可能であればQuest対応のご
 協力をお願いいたします\n\n禁止事項\n・無許可での動
 画撮影・録音・配信\n・性的または過激な言動\n・その
 他、運営の妨げになると判断される行為\n\nAndroid対応に
 ついて\n・ワールド及び一部スタッフはAndroid対応です\n
 ・ご参加にあたりAndorid対応は必須ではありません\n【
 参加方法】\n　「VRCお姉さんミルティナ集会（ONEMIL.7766
 ）」（https://vrc.group/ONEMIL.7766）のグループインスタンス
 へJoinをお願いします。\n【備考】\n　詳しくはX（https://
 x.com/higashi_vrc_2）の告知ポストをご確認くださいませ。
LOCATION:
END:VEVENT
END:VCALENDAR
