BEGIN:VCALENDAR
VERSION:2.0
PRODID:-//chikkutakku.com//RDFCal 1.0//EN
X-WR-CALDESC:GoogleカレンダーやiCalendar形式情報を共有シェ
 アしましょう。近所のイベントから全国のイベントま
 で今日のイベント検索やスケジュールを決めるならち
 っくたっく
X-WR-CALNAME:ちっくたっく
X-WR-TIMEZONE:UTC
BEGIN:VEVENT
SUMMARY:特殊切手「日・シンガポール外交関係樹立60周年
 」の発行\, via 日本郵便株式会社 https://ift.tt/lTyh7X5T:00Z
DTSTART;VALUE=DATE:20260426
DTEND;VALUE=DATE:20260427
UID:150846394186
DESCRIPTION:特殊切手「日・シンガポール外交関係樹立60周
 年」の発行\, via 日本郵便株式会社 https://ift.tt/lTyh7X5T:00Z
LOCATION:
END:VEVENT
END:VCALENDAR
