BEGIN:VCALENDAR
VERSION:2.0
PRODID:-//chikkutakku.com//RDFCal 1.0//EN
X-WR-CALDESC:GoogleカレンダーやiCalendar形式情報を共有シェ
 アしましょう。近所のイベントから全国のイベントま
 で今日のイベント検索やスケジュールを決めるならち
 っくたっく
X-WR-CALNAME:ちっくたっく
X-WR-TIMEZONE:UTC
BEGIN:VEVENT
SUMMARY:深夜のマーダーミステリーやりたい人集会※詳細
 ご確認ください。
DTSTART;VALUE=DATE-TIME:20260423T140000Z
DTEND;VALUE=DATE-TIME:20260423T145900Z
UID:151496664853
DESCRIPTION:【イベント主催者】\n　ぱたぽんぽ\n【イベン
 ト内容】\n　プレイヤーが先着で4人集まったら専用ワ
 ールドに移動後「豪華客船舞踏会」を開演予定です。
 ※PC限定になります。\n参加希望の方は集会時間までに
 お集まりください。\nマダミス初心者の方大歓迎です。
 ゲームの性質上、しゃべれる方限定です。※無言勢の
 方は観戦可です。\n【イベントジャンル】\n　その他交
 流会\n【参加条件（モデル、人数制限など）】\n　常識
 ある方・日本語の話せる方\n【参加方法】\n　グループ+
 インスタンスを開きます。どちらかでjoin\n①https://vrc.gr
 oup/MURDER.6681に参加してjoin\n②ぱたぽんぽにフレンド申
 請してjoin\n【備考】\n　シナリオは3時時ごろまでかか
 る予定です。それまでお時間余裕ある方でお願いしま
 す。人数集まらない場合は人数に合わせてシナリオ変
 更します。あらかじめご了承ください。
LOCATION:
END:VEVENT
END:VCALENDAR
