BEGIN:VCALENDAR
VERSION:2.0
PRODID:-//chikkutakku.com//RDFCal 1.0//EN
X-WR-CALDESC:GoogleカレンダーやiCalendar形式情報を共有シェ
 アしましょう。近所のイベントから全国のイベントま
 で今日のイベント検索やスケジュールを決めるならち
 っくたっく
X-WR-CALNAME:ちっくたっく
X-WR-TIMEZONE:UTC
BEGIN:VEVENT
SUMMARY:【LIVE】WAZAARI予選(MC)
DTSTART;VALUE=DATE-TIME:20260427T100000Z
DTEND;VALUE=DATE-TIME:20260427T113000Z
UID:151556449785
DESCRIPTION:【LIVE】WAZAARI予選(MC)
LOCATION:ハイジアV-1\, 日本、〒160-0021 東京都新宿区歌舞
 伎町２丁目４４−１ 東京都健康プラザハイジア b1
END:VEVENT
END:VCALENDAR
