BEGIN:VCALENDAR
VERSION:2.0
PRODID:-//chikkutakku.com//RDFCal 1.0//EN
X-WR-CALDESC:GoogleカレンダーやiCalendar形式情報を共有シェ
 アしましょう。近所のイベントから全国のイベントま
 で今日のイベント検索やスケジュールを決めるならち
 っくたっく
X-WR-CALNAME:ちっくたっく
X-WR-TIMEZONE:UTC
BEGIN:VEVENT
SUMMARY:11:00IDOL TRIBE
DTSTART;VALUE=DATE:20260424
DTEND;VALUE=DATE:20260425
UID:151644480479
DESCRIPTION:わんみゅーず!/モードラ/いざ参らん/Serenade/CHER
 eB/Little Rascal/サルヴァドールの悪魔/Breka The Limit/永遠の
 セツナ/うぃるめり!/イロハサクラ/ミケネコガールズ/&yo
 uth!\n11:00-17:40
LOCATION:うえほんまちハイハイタウン
END:VEVENT
END:VCALENDAR
