BEGIN:VCALENDAR
VERSION:2.0
PRODID:-//chikkutakku.com//RDFCal 1.0//EN
X-WR-CALDESC:GoogleカレンダーやiCalendar形式情報を共有シェ
 アしましょう。近所のイベントから全国のイベントま
 で今日のイベント検索やスケジュールを決めるならち
 っくたっく
X-WR-CALNAME:ちっくたっく
X-WR-TIMEZONE:UTC
BEGIN:VEVENT
SUMMARY:Kの支配者 ―奥田枠短編集―
DTSTART;VALUE=DATE:20260508
DTEND;VALUE=DATE:20260509
UID:152007224557
DESCRIPTION:2026-05-09Kの支配者 ―奥田枠短編集―
LOCATION:
END:VEVENT
END:VCALENDAR
