BEGIN:VCALENDAR
VERSION:2.0
PRODID:-//chikkutakku.com//RDFCal 1.0//EN
X-WR-CALDESC:GoogleカレンダーやiCalendar形式情報を共有シェ
 アしましょう。近所のイベントから全国のイベントま
 で今日のイベント検索やスケジュールを決めるならち
 っくたっく
X-WR-CALNAME:ちっくたっく
X-WR-TIMEZONE:UTC
BEGIN:VEVENT
SUMMARY:114-2技高部導師會報資料填寫
DTSTART;VALUE=DATE-TIME:20260514T060000Z
DTEND;VALUE=DATE-TIME:20260514T070000Z
UID:152228132513
DESCRIPTION:114學年度第二學期技高部導師會報資料填寫資
 料匯整截止日：115/05/18填寫網址：https://reurl.cc/aM6nYD第06
 次導師會報日期：115/05/21歷年參考檔案：https://reurl.cc/k86
 Vj3\n\n通过 Google Meet 加入：https://meet.google.com/eke-zwsk-ruc\n
 或者拨打以下号码：(US) +1 315-925-6298 PIN 码： 369715511#\n\n
 如需详细了解 Google Meet，请访问：https://support.google.com/a/
 users/answer/9282720
LOCATION:
END:VEVENT
END:VCALENDAR
