BEGIN:VCALENDAR
VERSION:2.0
PRODID:-//chikkutakku.com//RDFCal 1.0//EN
X-WR-CALDESC:GoogleカレンダーやiCalendar形式情報を共有シェ
 アしましょう。近所のイベントから全国のイベントま
 で今日のイベント検索やスケジュールを決めるならち
 っくたっく
X-WR-CALNAME:ちっくたっく
X-WR-TIMEZONE:UTC
BEGIN:VEVENT
SUMMARY:【楽天ブックス限定全巻購入特典+先着特典】花
 ざかりの君たちへ Blu-ray Disc BOX Vol.1(完全生産限定版)【B
 lu-ray】(A4クリアポスター2 種セット+A6アクリルプレート
 +キャラクターデザイン:蘇 詩宜描き下ろし複製色紙)
DTSTART;VALUE=DATE:20260512
DTEND;VALUE=DATE:20260513
UID:152307239103
DESCRIPTION:2026-05-13【楽天ブックス限定全巻購入特典+先着
 特典】花ざかりの君たちへ Blu-ray Disc BOX Vol.1(完全生産
 限定版)【Blu-ray】(A4クリアポスター2 種セット+A6アクリ
 ルプレート+キャラクターデザイン:蘇 詩宜描き下ろし
 複製色紙)中条比紗也/山根綺(株)アニプレックス
LOCATION:
END:VEVENT
END:VCALENDAR
