BEGIN:VCALENDAR
VERSION:2.0
PRODID:-//chikkutakku.com//RDFCal 1.0//EN
X-WR-CALDESC:GoogleカレンダーやiCalendar形式情報を共有シェ
 アしましょう。近所のイベントから全国のイベントま
 で今日のイベント検索やスケジュールを決めるならち
 っくたっく
X-WR-CALNAME:ちっくたっく
X-WR-TIMEZONE:UTC
BEGIN:VEVENT
SUMMARY:［イギリス風酒場🇬🇧］◤🍻PUB SOLENA◢
DTSTART;VALUE=DATE-TIME:20260424T130000Z
DTEND;VALUE=DATE-TIME:20260424T140000Z
UID:152473047001
DESCRIPTION:【イベント主催者】\n　ミラクロ\n【イベント
 内容】\n　イギリス伝統のPUBで、\nお酒やジュースを片
 手に、\n日常のこと、趣味のこと、\nなんでも気軽にお
 しゃべりしましょう！\n　\n👤 キャスト１：ゲスト３
 の少人数でまったり\n🗣 無言勢OK\n🌱 どなたでも大歓
 迎！\n\n「ちょっと誰かと話したいな」\nそんな夜に、
 ふらっとお越しください。\n\n途中参加・途中退室もOK
 です！\nどうぞお気軽にお立ち寄りください！\n【イベ
 ントジャンル】\n　VR飲み会\, 店舗系イベント\, 定期イ
 ベント\n【参加条件（モデル、人数制限など）】\n　ど
 なたでもどうぞお気軽にお越しください！\n【参加方法
 】\n　１． VRChat内でグループ 「SOLENA.5877」 を検索し参
 加！\n２． 時間になったら「PUB SOLENA」インスタンスへ
 ！\n【備考】\n　Group　　　 https://vrc.group/SOLENA.5877\nOffici
 al X　　@PubSolena\nハッシュタグ　#PUBソレナ\n（ポストし
 ていただけると、店長が泣いて喜びます…)
LOCATION:
END:VEVENT
END:VCALENDAR
