BEGIN:VCALENDAR
VERSION:2.0
PRODID:-//chikkutakku.com//RDFCal 1.0//EN
X-WR-CALDESC:GoogleカレンダーやiCalendar形式情報を共有シェ
 アしましょう。近所のイベントから全国のイベントま
 で今日のイベント検索やスケジュールを決めるならち
 っくたっく
X-WR-CALNAME:ちっくたっく
X-WR-TIMEZONE:UTC
BEGIN:VEVENT
SUMMARY:こまっち〜ず
DTSTART;VALUE=DATE:20260503
DTEND;VALUE=DATE:20260504
UID:152691701894
DESCRIPTION:こまっち〜ず\n出演          \n小松陽介(Vo
 \,Gt)＆土屋剛(Vo\,Pf)\n\n🎵ビートルズ、ポップス     
    \nopen 18:00 start18:30\nMC 4\,400円(税込) 2オーダー制
LOCATION:
END:VEVENT
END:VCALENDAR
