BEGIN:VCALENDAR
VERSION:2.0
PRODID:-//chikkutakku.com//RDFCal 1.0//EN
X-WR-CALDESC:GoogleカレンダーやiCalendar形式情報を共有シェ
 アしましょう。近所のイベントから全国のイベントま
 で今日のイベント検索やスケジュールを決めるならち
 っくたっく
X-WR-CALNAME:ちっくたっく
X-WR-TIMEZONE:UTC
BEGIN:VEVENT
SUMMARY:キャッチ！ティニピン #15 「ハチュピンの家出」
DTSTART;VALUE=DATE-TIME:20260422T083000Z
DTEND;VALUE=DATE-TIME:20260422T084500Z
UID:153017624814
DESCRIPTION:15 / ハチュピンの家出 / 
LOCATION:チバテレビ
END:VEVENT
END:VCALENDAR
