BEGIN:VCALENDAR
VERSION:2.0
PRODID:-//chikkutakku.com//RDFCal 1.0//EN
X-WR-CALDESC:GoogleカレンダーやiCalendar形式情報を共有シェ
 アしましょう。近所のイベントから全国のイベントま
 で今日のイベント検索やスケジュールを決めるならち
 っくたっく
X-WR-CALNAME:ちっくたっく
X-WR-TIMEZONE:UTC
BEGIN:VEVENT
SUMMARY:追放令嬢の私が魔族の王太子に溺愛されるまで
DTSTART;VALUE=DATE:20260421
DTEND;VALUE=DATE:20260422
UID:153466583022
DESCRIPTION:2026-04-22追放令嬢の私が魔族の王太子に溺愛さ
 れるまではるみさアルファポリス
LOCATION:
END:VEVENT
END:VCALENDAR
