BEGIN:VCALENDAR
VERSION:2.0
PRODID:-//chikkutakku.com//RDFCal 1.0//EN
X-WR-CALDESC:GoogleカレンダーやiCalendar形式情報を共有シェ
 アしましょう。近所のイベントから全国のイベントま
 で今日のイベント検索やスケジュールを決めるならち
 っくたっく
X-WR-CALNAME:ちっくたっく
X-WR-TIMEZONE:UTC
BEGIN:VEVENT
SUMMARY:浜松市天竜 音楽食堂M
DTSTART;VALUE=DATE-TIME:20260426T000000Z
DTEND;VALUE=DATE-TIME:20260426T010000Z
UID:154216394390
DESCRIPTION:4/26（日）浜松市天竜 音楽食堂M\nopen13:30 start14:
 00\n1500円1D付＋投げ銭\n出演：HIKA、のずえ よしこ、鈴木
  健太郎、しょーぞー、森香\n〒431-3313 静岡県浜松市天
 竜区二俣町鹿島８０
LOCATION:
END:VEVENT
END:VCALENDAR
