BEGIN:VCALENDAR
VERSION:2.0
PRODID:-//chikkutakku.com//RDFCal 1.0//EN
X-WR-CALDESC:GoogleカレンダーやiCalendar形式情報を共有シェ
 アしましょう。近所のイベントから全国のイベントま
 で今日のイベント検索やスケジュールを決めるならち
 っくたっく
X-WR-CALNAME:ちっくたっく
X-WR-TIMEZONE:UTC
BEGIN:VEVENT
SUMMARY:[教] 期末領域會議+教科書評選
DTSTART;VALUE=DATE-TIME:20260508T160000Z
DTEND;VALUE=DATE-TIME:20260513T160000Z
UID:154534099052
DESCRIPTION:[教] 期末領域會議+教科書評選
LOCATION:
END:VEVENT
END:VCALENDAR
