BEGIN:VCALENDAR
VERSION:2.0
PRODID:-//chikkutakku.com//RDFCal 1.0//EN
X-WR-CALDESC:GoogleカレンダーやiCalendar形式情報を共有シェ
 アしましょう。近所のイベントから全国のイベントま
 で今日のイベント検索やスケジュールを決めるならち
 っくたっく
X-WR-CALNAME:ちっくたっく
X-WR-TIMEZONE:UTC
BEGIN:VEVENT
SUMMARY:MS Soccer TEAM Practice CANCELED
DTSTART;VALUE=DATE-TIME:20260421T224000Z
DTEND;VALUE=DATE-TIME:20260422T001000Z
UID:154598546964
DESCRIPTION:Meet on the field with your water bottle and soccer gear.MS So
 ccer CalendarEmail Mr. Roberts at matt-roberts@scusd.edu for questions or
  concerns.Email Mr. Olivares at julio-olivares@scusd.edu for any questions
  or concerns.
LOCATION:Sojourner Truth Park
END:VEVENT
END:VCALENDAR
