BEGIN:VCALENDAR
VERSION:2.0
PRODID:-//chikkutakku.com//RDFCal 1.0//EN
X-WR-CALDESC:GoogleカレンダーやiCalendar形式情報を共有シェ
 アしましょう。近所のイベントから全国のイベントま
 で今日のイベント検索やスケジュールを決めるならち
 っくたっく
X-WR-CALNAME:ちっくたっく
X-WR-TIMEZONE:UTC
BEGIN:VEVENT
SUMMARY:衛生検査提出②
DTSTART;VALUE=DATE-TIME:20260524T010000Z
DTEND;VALUE=DATE-TIME:20260524T030000Z
UID:154629347581
DESCRIPTION:衛生検査提出②
LOCATION:時田工務店3階
END:VEVENT
END:VCALENDAR
