BEGIN:VCALENDAR
VERSION:2.0
PRODID:-//chikkutakku.com//RDFCal 1.0//EN
X-WR-CALDESC:GoogleカレンダーやiCalendar形式情報を共有シェ
 アしましょう。近所のイベントから全国のイベントま
 で今日のイベント検索やスケジュールを決めるならち
 っくたっく
X-WR-CALNAME:ちっくたっく
X-WR-TIMEZONE:UTC
BEGIN:VEVENT
SUMMARY:アレクセイ・チチャコフコンサート『アルタイの
 歌、その秘宝を聴く』〔巻上公一、佐藤正治。アレク
 セイ・チチャコフ〕
DTSTART;VALUE=DATE:20260513
DTEND;VALUE=DATE:20260514
UID:154698845796
DESCRIPTION:open 18:30 / start 19:00\nAlexey Chichakov（アレクセイ
 ・チチャコフ&#12316\;アルタイ共和国）コンサート　in JA
 PAN\n5月14日（木）横浜公演\n『アルタイの歌、その秘宝
 を聴く』\n出演:アレクセイ・チチャコフ（アルタイ共
 和国）\n　　 【Arzhan Suu 】: 巻上公一（ボイス、テルミ
 ン他/日本トゥバホーメイ協会代表）、 佐藤正治 （パ
 ーカッション）\nシベリアの南、アルタイ共和国の奥地
 から\n英雄叙事詩を歌う伝統音楽に\nモダンな音を追求
 するアレクセイ・チチャコフが来日する。\n驚異的な喉
 歌、口琴、伝統楽器トプシュール、ショールなどの継
 承者であり、\n作曲家・シンガーソングライターとして
 も活躍している。\n現代音楽や異分野との融合にも挑む
 、アルタイの伝統音楽の現在地に立つ若手伝承者。\n盟
 友の巻上公一が、その魅力と背景を紹介しつつ、\n巻上
 と佐藤正治によるデュオ「Arzhan Suu」との共演もお届け
 する。\nアルタイ語で「神聖な湧き水」を表す「Arzhan Su
 u」は、アルタイでチチャコフと共演し、大きな話題と
 なったが、今回10年ぶりに横浜で再共演 !\nこのトリオ
 の演奏が聴けるのはここ横浜公演のみ。大変貴重な機
 会をお見逃しなく!\n18時30分開場/ 19時開演\n上演時間　9
 0分を予定\nチケット:peatix、もしくはお電話、メールに
 てお申し込みください\n一般前売り:3500円、当日4000円\n
 シニア:70歳以上（年齢のわかるものを当日ご提示くだ
 さい）　3000円\n24歳以下:（年齢のわかるものを当日ご
 提示ください）1500円\n早割（4/30までのご購入に限り）
 一般　3000円\n会場:横浜開港記念会館 講堂\nhttps://www.kaik
 okinenkaikan.com\n（JR関内駅より徒歩10分、みなとみらい線
 日本大通り駅より徒歩1分）\n追加情報はこちらから\nhtt
 ps://www.instagram.com/koichimakigami/\nhttps://www.facebook.com/makigami/
 \nhttps://x.com/MAKIBRI\n問:MAKIGAMI OFFICE  \nmail: makigamioffice@gmail
 .com\ntel.0465-63-0578\n他の公演\n5月9日（土）\n「口琴協会
 定例会:アレクセイ・チチャコフ ライブ」\n時間 : 16:00
 〜17:30（open15:30）\n会場：Chaabee\n（東京都江東区福住1-11
 -11　地下鉄門前仲町駅3番または6番出口より徒歩7分）\n
 問 : biyooon@koukin.jp\nhttps://www.instagram.com/koukinjima/\nhttps://ww
 w.facebook.com/koukinjima.shounan/\n5月10日（日）\n「中央ユーラ
 シアから檜原村へ〜音楽と食文化を楽しむ会〜」\n時間
  : \n12:00　ランチの時間　季節の山菜ランチ提供（別途
 代金・要予約）\n13:15 プチレクチャー「中央ユーラシア
 の食文化」(木俣美樹男)\n14:15  アレクセイ・チチャコフ
  コンサート\n終了後　お茶会 ( アルタイのお茶、檜原
 の昔おやつなど）　\n主催・会場　NPO法人さとやま学校
 ・東京「藤倉校舎」\nhttps://fujikura-kosha.com/\n（東京都西
 多摩郡檜原村藤原4814　JR五日市線武蔵五日市駅より西
 東京バスで50分）\n料金 ( お茶会代金込み）\n　　予約
 　大人3000円　高校生以下1500円　\n　　当日　大人3500円
 　高校生以下2000円\n予約・問　rm7r-kwkm@asahi-net.or.jp(川上
 )\n5月12日（火）　\n山梨　蚕天ノ室（santen no muro）-オト
 ノムロ-\n時間：OPEN18:00  START18:30  \n料金：大人3\,500  大
 学生2\,000  中&#8226\;高生1\,000   小学生以下無料（飲み物
 付き）\n会場：蚕天ノ室（さんてんのむろ） 山梨市牧
 丘町室伏11-1　@momosuzuki_stringraphylabo　　　\n出演：\nアレ
 クセイ チチャコフ（アルタイ民族音楽・ショール、ト
 プショール、コムス、喉歌）\n直川礼緒（口琴）\n鈴木
 モモ（ストリングラフィ、蚕天ノ室主宰）\n「Santen Labo 
 Special Edition」Santen Labo は絹糸と紙コップでできたオリ
 ジナル楽器『ストリングラフィ』と、音楽家やアーテ
 ィストによる実験的なコラボレーションライブ企画。Sp
 ecial Editionはゲストの演奏をお楽しみいただきます。\n
 ロシア連邦アルタイ共和国の民族音楽、アルタイ喉歌
 の伝承者、アレクセイ チチャコフがやってくる！アル
 タイの民族音楽って？喉歌とは？草原に響く倍音の世
 界をどうぞお楽しみに。\n5月16日（土）\n「倍音de踊ろ
 う！口琴DISCO! VOL.4」\nOPEN DJ START 17:30\n会場: LiveSpace早稲
 田RiNen（東京都新宿区早稲田町74-4早稲田オアシスビルB1
 F/東西線早稲田駅1番出口より徒歩30秒）\nhttps://www.waseda-
 rinen.com/\n予約2\,500円 当日3\,000円 中学生以下無料 いず
 れも+1ドリンクオーダー\n障がい者割引　予約、当日共1
 \,500円\n出演:　\nAlexey Chichakov（アレクセイ・チチャコフ
 〜アルタイ共和国）\nKAMOSU\nChapa&Momo\n小金井星空口琴部
 隊
LOCATION:横浜市開港記念会館【関東】
END:VEVENT
END:VCALENDAR
