BEGIN:VCALENDAR
VERSION:2.0
PRODID:-//chikkutakku.com//RDFCal 1.0//EN
X-WR-CALDESC:GoogleカレンダーやiCalendar形式情報を共有シェ
 アしましょう。近所のイベントから全国のイベントま
 で今日のイベント検索やスケジュールを決めるならち
 っくたっく
X-WR-CALNAME:ちっくたっく
X-WR-TIMEZONE:UTC
BEGIN:VEVENT
SUMMARY:元防衛事務官がネトゲ住人と起業して7つの会社
 を経営するようになった話
DTSTART;VALUE=DATE:20260430
DTEND;VALUE=DATE:20260501
UID:154833758518
DESCRIPTION:2026-05-01元防衛事務官がネトゲ住人と起業して7
 つの会社を経営するようになった話中舘修希クロスメ
 ディア・パブリッシング
LOCATION:
END:VEVENT
END:VCALENDAR
