BEGIN:VCALENDAR
VERSION:2.0
PRODID:-//chikkutakku.com//RDFCal 1.0//EN
X-WR-CALDESC:GoogleカレンダーやiCalendar形式情報を共有シェ
 アしましょう。近所のイベントから全国のイベントま
 で今日のイベント検索やスケジュールを決めるならち
 っくたっく
X-WR-CALNAME:ちっくたっく
X-WR-TIMEZONE:UTC
BEGIN:VEVENT
SUMMARY:山鳥毛
DTSTART;VALUE=DATE:20260424
DTEND;VALUE=DATE:20260506
UID:154909166846
DESCRIPTION:https://www.city.setouchi.lg.jp/site/token/111308.html
LOCATION:備前長船刀剣博物館\, 日本、〒701-4271 岡山県瀬
 戸内市長船町長船９６６
END:VEVENT
END:VCALENDAR
