BEGIN:VCALENDAR
VERSION:2.0
PRODID:-//chikkutakku.com//RDFCal 1.0//EN
X-WR-CALDESC:GoogleカレンダーやiCalendar形式情報を共有シェ
 アしましょう。近所のイベントから全国のイベントま
 で今日のイベント検索やスケジュールを決めるならち
 っくたっく
X-WR-CALNAME:ちっくたっく
X-WR-TIMEZONE:UTC
BEGIN:VEVENT
SUMMARY:冷酷魔王な法医学ドクターは政略妻を悪辣なまで
 に溺愛する【双子の白黒ドクターシリーズ】
DTSTART;VALUE=DATE:20260508
DTEND;VALUE=DATE:20260509
UID:155192373889
DESCRIPTION:2026-05-09冷酷魔王な法医学ドクターは政略妻を
 悪辣なまでに溺愛する【双子の白黒ドクターシリーズ
 】一ノ瀬千景/炎かりよスターツ出版
LOCATION:
END:VEVENT
END:VCALENDAR
