BEGIN:VCALENDAR
VERSION:2.0
PRODID:-//chikkutakku.com//RDFCal 1.0//EN
X-WR-CALDESC:GoogleカレンダーやiCalendar形式情報を共有シェ
 アしましょう。近所のイベントから全国のイベントま
 で今日のイベント検索やスケジュールを決めるならち
 っくたっく
X-WR-CALNAME:ちっくたっく
X-WR-TIMEZONE:UTC
BEGIN:VEVENT
SUMMARY:M120E-1012-Addi-T4:Marian
DTSTART;VALUE=DATE-TIME:20260422T163000Z
DTEND;VALUE=DATE-TIME:20260422T180000Z
UID:155758308468
DESCRIPTION:M120E-1012-Addi-T4:Marian
LOCATION:
END:VEVENT
END:VCALENDAR
