BEGIN:VCALENDAR
VERSION:2.0
PRODID:-//chikkutakku.com//RDFCal 1.0//EN
X-WR-CALDESC:GoogleカレンダーやiCalendar形式情報を共有シェ
 アしましょう。近所のイベントから全国のイベントま
 で今日のイベント検索やスケジュールを決めるならち
 っくたっく
X-WR-CALNAME:ちっくたっく
X-WR-TIMEZONE:UTC
BEGIN:VEVENT
SUMMARY:日本の太陽の根源
DTSTART;VALUE=DATE:20260419
DTEND;VALUE=DATE:20260420
UID:156264240954
DESCRIPTION:2026-04-20日本の太陽の根源ボリス・ピリニャー
 ク/ダニー・サヴェリ/塚原 孝彩流社
LOCATION:
END:VEVENT
END:VCALENDAR
