BEGIN:VCALENDAR
VERSION:2.0
PRODID:-//chikkutakku.com//RDFCal 1.0//EN
X-WR-CALDESC:GoogleカレンダーやiCalendar形式情報を共有シェ
 アしましょう。近所のイベントから全国のイベントま
 で今日のイベント検索やスケジュールを決めるならち
 っくたっく
X-WR-CALNAME:ちっくたっく
X-WR-TIMEZONE:UTC
BEGIN:VEVENT
SUMMARY:【配信特典会】SYAAMiNE＠MT総会「新シーズンの陣
 」
DTSTART;VALUE=DATE:20260424
DTEND;VALUE=DATE:20260425
UID:156356172026
DESCRIPTION:MT総会　「新シーズンの陣」4/25後日発表観覧
 無料https://twitcasting.tv/mewcatune/movie/792948145特典会チェキht
 tp://musictrace.thebase.in
LOCATION:
END:VEVENT
END:VCALENDAR
