BEGIN:VCALENDAR
VERSION:2.0
PRODID:-//chikkutakku.com//RDFCal 1.0//EN
X-WR-CALDESC:GoogleカレンダーやiCalendar形式情報を共有シェ
 アしましょう。近所のイベントから全国のイベントま
 で今日のイベント検索やスケジュールを決めるならち
 っくたっく
X-WR-CALNAME:ちっくたっく
X-WR-TIMEZONE:UTC
BEGIN:VEVENT
SUMMARY:情報知識学会 第34回（2026年度）年次大会
DTSTART;VALUE=DATE:20260522
DTEND;VALUE=DATE:20260523
UID:156620418228
DESCRIPTION:https://www.jsik.jp/?2026cfp
LOCATION:函館コミュニティプラザ Gスクエア\, 日本、〒040
 -0011 北海道函館市本町２４−１ シエスタ ハコダテ 4 階
END:VEVENT
END:VCALENDAR
