BEGIN:VCALENDAR
VERSION:2.0
PRODID:-//chikkutakku.com//RDFCal 1.0//EN
X-WR-CALDESC:GoogleカレンダーやiCalendar形式情報を共有シェ
 アしましょう。近所のイベントから全国のイベントま
 で今日のイベント検索やスケジュールを決めるならち
 っくたっく
X-WR-CALNAME:ちっくたっく
X-WR-TIMEZONE:UTC
BEGIN:VEVENT
SUMMARY:HS Grandparent's Day Lunch
DTSTART;VALUE=DATE-TIME:20260501T161500Z
DTEND;VALUE=DATE-TIME:20260501T174500Z
UID:156951361419
DESCRIPTION:HS Grandparent's Day Lunch
LOCATION:
END:VEVENT
END:VCALENDAR
