BEGIN:VCALENDAR
VERSION:2.0
PRODID:-//chikkutakku.com//RDFCal 1.0//EN
X-WR-CALDESC:GoogleカレンダーやiCalendar形式情報を共有シェ
 アしましょう。近所のイベントから全国のイベントま
 で今日のイベント検索やスケジュールを決めるならち
 っくたっく
X-WR-CALNAME:ちっくたっく
X-WR-TIMEZONE:UTC
BEGIN:VEVENT
SUMMARY:(2d) のちこるふぇす vol\,4
DTSTART;VALUE=DATE-TIME:20260421T100000Z
DTEND;VALUE=DATE-TIME:20260421T113000Z
UID:157001985326
DESCRIPTION:https://x.com/ConnectCall_/status/2041875698101760227\n【📣
 #こねこる ライブ情報】\n\n4/21(火)\n『のちこるふぇす vo
 l\,4』\n@ GOTANDA G3\n\n⏰OPEN 18:40/ START 19:00\n\n🎫 予約 0円/
 当日500円(２ドリンク必須)\n\n🎙19:00-19:10(撮影可能)\n🎙
 20:10-20:30\n📸20:40-21:45\n🎁写メ\n\n⬇︎申込\nhttps://tiget.ne
 t/events/480522\n⚠️ 4/9(木)21:00~4/21(火)12:00迄\n\nhttps://tiget.n
 et/events/480522\nのちこるふぇす vol\,4\n\n日付：2026年4月21
 日(火)\n会場：GOTANDA G3\n時間：開場 18:40 / 開演19:00\n料金
 ：予約 0円/当日500円(２ドリンク必須)\n出演：ConnectCall
 ／きゅーんず！／Maboroっち／ミニスカポリス\n\n【注意
 事項】\n■泥酔者の入場不可。\n■イベント中の盗難・
 紛失についての一切の責任は負いません。\n■他のお客
 様の迷惑となる行為は全面禁止です。ルールをお守り
 頂けないお客様に対しては、退場処分とさせて頂きま
 す。\n■出演者(メンバー)の都合による返金対応などは
 一切応じられませんので予めご了承ください\n\n出演者\
 nConnectCall / きゅーんず！ / Maboroっち / ミニスカポリス\n
 開催日\n2026年04月21日(火)\n主催または登録者\n株式会社
 ヒロプロジェクト\n会場\nGOTANDA G3 / G4(東京都)\nイベント
 のお問い合わせ\n以下より主催者へお問い合わせくださ
 い。\n\nお問い合わせフォーム
LOCATION:GOTANDA G3
END:VEVENT
END:VCALENDAR
