BEGIN:VCALENDAR
VERSION:2.0
PRODID:-//chikkutakku.com//RDFCal 1.0//EN
X-WR-CALDESC:GoogleカレンダーやiCalendar形式情報を共有シェ
 アしましょう。近所のイベントから全国のイベントま
 で今日のイベント検索やスケジュールを決めるならち
 っくたっく
X-WR-CALNAME:ちっくたっく
X-WR-TIMEZONE:UTC
BEGIN:VEVENT
SUMMARY:特別支援教育における持続可能な社会の創り手の
 育成
DTSTART;VALUE=DATE:20260420
DTEND;VALUE=DATE:20260421
UID:157772414911
DESCRIPTION:2026-04-21特別支援教育における持続可能な社会
 の創り手の育成丹野哲也 山内俊久 武富博文 西田良児
 ジアース教育新社
LOCATION:
END:VEVENT
END:VCALENDAR
